BEGIN:VCALENDAR
VERSION:2.0
PRODID:-//Randolph AMVETS Post 51 - ECPv6.15.20//NONSGML v1.0//EN
CALSCALE:GREGORIAN
METHOD:PUBLISH
X-ORIGINAL-URL:https://randolphamvetspost51.org
X-WR-CALDESC:Events for Randolph AMVETS Post 51
REFRESH-INTERVAL;VALUE=DURATION:PT1H
X-Robots-Tag:noindex
X-PUBLISHED-TTL:PT1H
BEGIN:VTIMEZONE
TZID:America/New_York
BEGIN:DAYLIGHT
TZOFFSETFROM:-0500
TZOFFSETTO:-0400
TZNAME:EDT
DTSTART:20230312T070000
END:DAYLIGHT
BEGIN:STANDARD
TZOFFSETFROM:-0400
TZOFFSETTO:-0500
TZNAME:EST
DTSTART:20231105T060000
END:STANDARD
BEGIN:DAYLIGHT
TZOFFSETFROM:-0500
TZOFFSETTO:-0400
TZNAME:EDT
DTSTART:20240310T070000
END:DAYLIGHT
BEGIN:STANDARD
TZOFFSETFROM:-0400
TZOFFSETTO:-0500
TZNAME:EST
DTSTART:20241103T060000
END:STANDARD
BEGIN:DAYLIGHT
TZOFFSETFROM:-0500
TZOFFSETTO:-0400
TZNAME:EDT
DTSTART:20250309T070000
END:DAYLIGHT
BEGIN:STANDARD
TZOFFSETFROM:-0400
TZOFFSETTO:-0500
TZNAME:EST
DTSTART:20251102T060000
END:STANDARD
END:VTIMEZONE
BEGIN:VEVENT
DTSTART;VALUE=DATE:20241214
DTEND;VALUE=DATE:20241215
DTSTAMP:20260419T200725
CREATED:20241209T010853Z
LAST-MODIFIED:20241209T010853Z
UID:9364-1734134400-1734220799@randolphamvetspost51.org
SUMMARY:Jeff Allen Show/Gypsy six
DESCRIPTION:
URL:https://randolphamvetspost51.org/event/jeff-allen-show-gypsy-six/
LOCATION:Amvets Post No 51\, 9 Amvets Ln\, Randolph\, MA\, 02368\, United States
CATEGORIES:Entertainment
END:VEVENT
END:VCALENDAR