BEGIN:VCALENDAR
VERSION:2.0
PRODID:-//Randolph AMVETS Post 51 - ECPv6.15.20//NONSGML v1.0//EN
CALSCALE:GREGORIAN
METHOD:PUBLISH
X-WR-CALNAME:Randolph AMVETS Post 51
X-ORIGINAL-URL:https://randolphamvetspost51.org
X-WR-CALDESC:Events for Randolph AMVETS Post 51
REFRESH-INTERVAL;VALUE=DURATION:PT1H
X-Robots-Tag:noindex
X-PUBLISHED-TTL:PT1H
BEGIN:VTIMEZONE
TZID:America/New_York
BEGIN:DAYLIGHT
TZOFFSETFROM:-0500
TZOFFSETTO:-0400
TZNAME:EDT
DTSTART:20220313T070000
END:DAYLIGHT
BEGIN:STANDARD
TZOFFSETFROM:-0400
TZOFFSETTO:-0500
TZNAME:EST
DTSTART:20221106T060000
END:STANDARD
BEGIN:DAYLIGHT
TZOFFSETFROM:-0500
TZOFFSETTO:-0400
TZNAME:EDT
DTSTART:20230312T070000
END:DAYLIGHT
BEGIN:STANDARD
TZOFFSETFROM:-0400
TZOFFSETTO:-0500
TZNAME:EST
DTSTART:20231105T060000
END:STANDARD
BEGIN:DAYLIGHT
TZOFFSETFROM:-0500
TZOFFSETTO:-0400
TZNAME:EDT
DTSTART:20240310T070000
END:DAYLIGHT
BEGIN:STANDARD
TZOFFSETFROM:-0400
TZOFFSETTO:-0500
TZNAME:EST
DTSTART:20241103T060000
END:STANDARD
END:VTIMEZONE
BEGIN:VEVENT
DTSTART;VALUE=DATE:20230106
DTEND;VALUE=DATE:20230107
DTSTAMP:20260421T110730
CREATED:20230108T214915Z
LAST-MODIFIED:20230108T214915Z
UID:8669-1672963200-1673049599@randolphamvetspost51.org
SUMMARY:The Heavyhitters Band
DESCRIPTION:
URL:https://randolphamvetspost51.org/event/the-heavyhitters-band-8/
LOCATION:Amvets Post No 51\, 9 Amvets Ln\, Randolph\, MA\, 02368\, United States
CATEGORIES:Entertainment
END:VEVENT
BEGIN:VEVENT
DTSTART;VALUE=DATE:20230107
DTEND;VALUE=DATE:20230108
DTSTAMP:20260421T110730
CREATED:20230108T215000Z
LAST-MODIFIED:20230108T215000Z
UID:8671-1673049600-1673135999@randolphamvetspost51.org
SUMMARY:Idle Rumors
DESCRIPTION:
URL:https://randolphamvetspost51.org/event/idle-rumors-10/
LOCATION:Amvets Post No 51\, 9 Amvets Ln\, Randolph\, MA\, 02368\, United States
CATEGORIES:Entertainment
ATTACH;FMTTYPE=image/jpeg:https://randolphamvetspost51.org/wp-content/uploads/2021/09/ldle_Rumors-600x399-2.jpeg
END:VEVENT
BEGIN:VEVENT
DTSTART;VALUE=DATE:20230113
DTEND;VALUE=DATE:20230114
DTSTAMP:20260421T110730
CREATED:20230108T215044Z
LAST-MODIFIED:20230108T215044Z
UID:8673-1673568000-1673654399@randolphamvetspost51.org
SUMMARY:Colleen Marshall & John Kelly
DESCRIPTION:
URL:https://randolphamvetspost51.org/event/colleen-marshall-john-kelly-8/
LOCATION:Amvets Post No 51\, 9 Amvets Ln\, Randolph\, MA\, 02368\, United States
CATEGORIES:Entertainment
END:VEVENT
BEGIN:VEVENT
DTSTART;VALUE=DATE:20230114
DTEND;VALUE=DATE:20230115
DTSTAMP:20260421T110730
CREATED:20230108T215129Z
LAST-MODIFIED:20230108T215129Z
UID:8675-1673654400-1673740799@randolphamvetspost51.org
SUMMARY:Soulshine
DESCRIPTION:
URL:https://randolphamvetspost51.org/event/soulshine-4/
LOCATION:Amvets Post No 51\, 9 Amvets Ln\, Randolph\, MA\, 02368\, United States
CATEGORIES:Entertainment
ATTACH;FMTTYPE=image/jpeg:https://randolphamvetspost51.org/wp-content/uploads/2021/09/IMG_3662-scaled.jpeg
END:VEVENT
BEGIN:VEVENT
DTSTART;VALUE=DATE:20230120
DTEND;VALUE=DATE:20230121
DTSTAMP:20260421T110730
CREATED:20230108T215244Z
LAST-MODIFIED:20230108T215244Z
UID:8677-1674172800-1674259199@randolphamvetspost51.org
SUMMARY:Powerhouse
DESCRIPTION:
URL:https://randolphamvetspost51.org/event/powerhouse-5/
LOCATION:Amvets Post No 51\, 9 Amvets Ln\, Randolph\, MA\, 02368\, United States
CATEGORIES:Entertainment
END:VEVENT
BEGIN:VEVENT
DTSTART;VALUE=DATE:20230127
DTEND;VALUE=DATE:20230128
DTSTAMP:20260421T110730
CREATED:20230108T215532Z
LAST-MODIFIED:20230108T215532Z
UID:8681-1674777600-1674863999@randolphamvetspost51.org
SUMMARY:Good to Go
DESCRIPTION:
URL:https://randolphamvetspost51.org/event/good-to-go-6/
LOCATION:Amvets Post No 51\, 9 Amvets Ln\, Randolph\, MA\, 02368\, United States
CATEGORIES:Entertainment
END:VEVENT
BEGIN:VEVENT
DTSTART;VALUE=DATE:20230128
DTEND;VALUE=DATE:20230129
DTSTAMP:20260421T110730
CREATED:20230119T004928Z
LAST-MODIFIED:20230119T004928Z
UID:8688-1674864000-1674950399@randolphamvetspost51.org
SUMMARY:Track 44
DESCRIPTION:
URL:https://randolphamvetspost51.org/event/track-44/
LOCATION:Amvets Post No 51\, 9 Amvets Ln\, Randolph\, MA\, 02368\, United States
CATEGORIES:Entertainment
END:VEVENT
END:VCALENDAR