BEGIN:VCALENDAR
VERSION:2.0
PRODID:-//Randolph AMVETS Post 51 - ECPv6.15.20//NONSGML v1.0//EN
CALSCALE:GREGORIAN
METHOD:PUBLISH
X-ORIGINAL-URL:https://randolphamvetspost51.org
X-WR-CALDESC:Events for Randolph AMVETS Post 51
REFRESH-INTERVAL;VALUE=DURATION:PT1H
X-Robots-Tag:noindex
X-PUBLISHED-TTL:PT1H
BEGIN:VTIMEZONE
TZID:America/New_York
BEGIN:DAYLIGHT
TZOFFSETFROM:-0500
TZOFFSETTO:-0400
TZNAME:EDT
DTSTART:20210314T070000
END:DAYLIGHT
BEGIN:STANDARD
TZOFFSETFROM:-0400
TZOFFSETTO:-0500
TZNAME:EST
DTSTART:20211107T060000
END:STANDARD
BEGIN:DAYLIGHT
TZOFFSETFROM:-0500
TZOFFSETTO:-0400
TZNAME:EDT
DTSTART:20220313T070000
END:DAYLIGHT
BEGIN:STANDARD
TZOFFSETFROM:-0400
TZOFFSETTO:-0500
TZNAME:EST
DTSTART:20221106T060000
END:STANDARD
BEGIN:DAYLIGHT
TZOFFSETFROM:-0500
TZOFFSETTO:-0400
TZNAME:EDT
DTSTART:20230312T070000
END:DAYLIGHT
BEGIN:STANDARD
TZOFFSETFROM:-0400
TZOFFSETTO:-0500
TZNAME:EST
DTSTART:20231105T060000
END:STANDARD
END:VTIMEZONE
BEGIN:VEVENT
DTSTART;VALUE=DATE:20221202
DTEND;VALUE=DATE:20221203
DTSTAMP:20260421T124019
CREATED:20221204T183206Z
LAST-MODIFIED:20221204T183206Z
UID:8645-1669939200-1670025599@randolphamvetspost51.org
SUMMARY:Powerhouse
DESCRIPTION:
URL:https://randolphamvetspost51.org/event/powerhouse-4/
LOCATION:Amvets Post No 51\, 9 Amvets Ln\, Randolph\, MA\, 02368\, United States
CATEGORIES:Entertainment
END:VEVENT
BEGIN:VEVENT
DTSTART;VALUE=DATE:20221203
DTEND;VALUE=DATE:20221204
DTSTAMP:20260421T124019
CREATED:20221204T183228Z
LAST-MODIFIED:20221204T183228Z
UID:8647-1670025600-1670111999@randolphamvetspost51.org
SUMMARY:The Heavyhitters Band
DESCRIPTION:
URL:https://randolphamvetspost51.org/event/the-heavyhitters-band-7/
LOCATION:Amvets Post No 51\, 9 Amvets Ln\, Randolph\, MA\, 02368\, United States
CATEGORIES:Entertainment
END:VEVENT
BEGIN:VEVENT
DTSTART;VALUE=DATE:20221209
DTEND;VALUE=DATE:20221210
DTSTAMP:20260421T124019
CREATED:20221204T183416Z
LAST-MODIFIED:20221204T183416Z
UID:8649-1670544000-1670630399@randolphamvetspost51.org
SUMMARY:Tooth & Nail (dba Powertrip)
DESCRIPTION:
URL:https://randolphamvetspost51.org/event/tooth-nail-dba-powertrip/
LOCATION:Amvets Post No 51\, 9 Amvets Ln\, Randolph\, MA\, 02368\, United States
CATEGORIES:Entertainment
ATTACH;FMTTYPE=image/jpeg:https://randolphamvetspost51.org/wp-content/uploads/2022/12/240248455_110110191386275_7498469500284056035_n.jpeg
END:VEVENT
BEGIN:VEVENT
DTSTART;VALUE=DATE:20221210
DTEND;VALUE=DATE:20221211
DTSTAMP:20260421T124019
CREATED:20221204T183442Z
LAST-MODIFIED:20221204T183442Z
UID:8652-1670630400-1670716799@randolphamvetspost51.org
SUMMARY:Michele Rockwell Band
DESCRIPTION:
URL:https://randolphamvetspost51.org/event/michele-rockwell-band-8/
LOCATION:Amvets Post No 51\, 9 Amvets Ln\, Randolph\, MA\, 02368\, United States
CATEGORIES:Entertainment
ATTACH;FMTTYPE=image/jpeg:https://randolphamvetspost51.org/wp-content/uploads/2021/09/The_Michele_Rockwell_Band-1.jpeg
END:VEVENT
BEGIN:VEVENT
DTSTART;VALUE=DATE:20221216
DTEND;VALUE=DATE:20221217
DTSTAMP:20260421T124019
CREATED:20221204T183504Z
LAST-MODIFIED:20221204T183504Z
UID:8654-1671148800-1671235199@randolphamvetspost51.org
SUMMARY:Magic Moments
DESCRIPTION:
URL:https://randolphamvetspost51.org/event/magic-moments-4/
LOCATION:Amvets Post No 51\, 9 Amvets Ln\, Randolph\, MA\, 02368\, United States
CATEGORIES:Entertainment
END:VEVENT
BEGIN:VEVENT
DTSTART;VALUE=DATE:20221217
DTEND;VALUE=DATE:20221218
DTSTAMP:20260421T124019
CREATED:20221204T183528Z
LAST-MODIFIED:20221204T183528Z
UID:8656-1671235200-1671321599@randolphamvetspost51.org
SUMMARY:Easy Access
DESCRIPTION:
URL:https://randolphamvetspost51.org/event/easy-access-4/
LOCATION:Amvets Post No 51\, 9 Amvets Ln\, Randolph\, MA\, 02368\, United States
CATEGORIES:Entertainment
ATTACH;FMTTYPE=image/jpeg:https://randolphamvetspost51.org/wp-content/uploads/2021/09/IMG_4209.jpeg
END:VEVENT
BEGIN:VEVENT
DTSTART;VALUE=DATE:20221221
DTEND;VALUE=DATE:20221222
DTSTAMP:20260421T124019
CREATED:20230108T215400Z
LAST-MODIFIED:20230108T215400Z
UID:8679-1671580800-1671667199@randolphamvetspost51.org
SUMMARY:Magic Moments
DESCRIPTION:
URL:https://randolphamvetspost51.org/event/magic-moments-5/
LOCATION:Amvets Post No 51\, 9 Amvets Ln\, Randolph\, MA\, 02368\, United States
CATEGORIES:Entertainment
END:VEVENT
BEGIN:VEVENT
DTSTART;VALUE=DATE:20221223
DTEND;VALUE=DATE:20221224
DTSTAMP:20260421T124019
CREATED:20221204T183554Z
LAST-MODIFIED:20221204T183554Z
UID:8658-1671753600-1671839999@randolphamvetspost51.org
SUMMARY:That 60s Band
DESCRIPTION:
URL:https://randolphamvetspost51.org/event/that-60s-band-4/
LOCATION:Amvets Post No 51\, 9 Amvets Ln\, Randolph\, MA\, 02368\, United States
CATEGORIES:Entertainment
ATTACH;FMTTYPE=image/jpeg:https://randolphamvetspost51.org/wp-content/uploads/2022/05/74304261_579610156111939_7249177163763548160_n.jpeg
END:VEVENT
BEGIN:VEVENT
DTSTART;VALUE=DATE:20221230
DTEND;VALUE=DATE:20221231
DTSTAMP:20260421T124019
CREATED:20221226T202330Z
LAST-MODIFIED:20221226T202330Z
UID:8666-1672358400-1672444799@randolphamvetspost51.org
SUMMARY:Tooth & Nail (dba Powertrip)
DESCRIPTION:
URL:https://randolphamvetspost51.org/event/tooth-nail-dba-powertrip-2/
LOCATION:Amvets Post No 51\, 9 Amvets Ln\, Randolph\, MA\, 02368\, United States
CATEGORIES:Entertainment
ATTACH;FMTTYPE=image/jpeg:https://randolphamvetspost51.org/wp-content/uploads/2022/12/240248455_110110191386275_7498469500284056035_n.jpeg
END:VEVENT
BEGIN:VEVENT
DTSTART;VALUE=DATE:20221231
DTEND;VALUE=DATE:20230101
DTSTAMP:20260421T124019
CREATED:20221204T183628Z
LAST-MODIFIED:20221204T183628Z
UID:8660-1672444800-1672531199@randolphamvetspost51.org
SUMMARY:XM Station
DESCRIPTION:
URL:https://randolphamvetspost51.org/event/xm-station-4/
LOCATION:Amvets Post No 51\, 9 Amvets Ln\, Randolph\, MA\, 02368\, United States
CATEGORIES:Entertainment
END:VEVENT
END:VCALENDAR