BEGIN:VCALENDAR
VERSION:2.0
PRODID:-//Randolph AMVETS Post 51 - ECPv6.15.20//NONSGML v1.0//EN
CALSCALE:GREGORIAN
METHOD:PUBLISH
X-WR-CALNAME:Randolph AMVETS Post 51
X-ORIGINAL-URL:https://randolphamvetspost51.org
X-WR-CALDESC:Events for Randolph AMVETS Post 51
REFRESH-INTERVAL;VALUE=DURATION:PT1H
X-Robots-Tag:noindex
X-PUBLISHED-TTL:PT1H
BEGIN:VTIMEZONE
TZID:America/New_York
BEGIN:DAYLIGHT
TZOFFSETFROM:-0500
TZOFFSETTO:-0400
TZNAME:EDT
DTSTART:20210314T070000
END:DAYLIGHT
BEGIN:STANDARD
TZOFFSETFROM:-0400
TZOFFSETTO:-0500
TZNAME:EST
DTSTART:20211107T060000
END:STANDARD
BEGIN:DAYLIGHT
TZOFFSETFROM:-0500
TZOFFSETTO:-0400
TZNAME:EDT
DTSTART:20220313T070000
END:DAYLIGHT
BEGIN:STANDARD
TZOFFSETFROM:-0400
TZOFFSETTO:-0500
TZNAME:EST
DTSTART:20221106T060000
END:STANDARD
BEGIN:DAYLIGHT
TZOFFSETFROM:-0500
TZOFFSETTO:-0400
TZNAME:EDT
DTSTART:20230312T070000
END:DAYLIGHT
BEGIN:STANDARD
TZOFFSETFROM:-0400
TZOFFSETTO:-0500
TZNAME:EST
DTSTART:20231105T060000
END:STANDARD
END:VTIMEZONE
BEGIN:VEVENT
DTSTART;VALUE=DATE:20220902
DTEND;VALUE=DATE:20220903
DTSTAMP:20260421T170201
CREATED:20220831T190941Z
LAST-MODIFIED:20220831T190941Z
UID:8583-1662076800-1662163199@randolphamvetspost51.org
SUMMARY:Undercover
DESCRIPTION:
URL:https://randolphamvetspost51.org/event/undercover-4/
LOCATION:Amvets Post No 51\, 9 Amvets Ln\, Randolph\, MA\, 02368\, United States
CATEGORIES:Entertainment
END:VEVENT
BEGIN:VEVENT
DTSTART;VALUE=DATE:20220903
DTEND;VALUE=DATE:20220904
DTSTAMP:20260421T170201
CREATED:20220831T191005Z
LAST-MODIFIED:20220831T191005Z
UID:8585-1662163200-1662249599@randolphamvetspost51.org
SUMMARY:Easy Access
DESCRIPTION:
URL:https://randolphamvetspost51.org/event/easy-access-3/
LOCATION:Amvets Post No 51\, 9 Amvets Ln\, Randolph\, MA\, 02368\, United States
CATEGORIES:Entertainment
ATTACH;FMTTYPE=image/jpeg:https://randolphamvetspost51.org/wp-content/uploads/2021/09/IMG_4209.jpeg
END:VEVENT
BEGIN:VEVENT
DTSTART;VALUE=DATE:20220909
DTEND;VALUE=DATE:20220910
DTSTAMP:20260421T170201
CREATED:20220831T191023Z
LAST-MODIFIED:20220831T191023Z
UID:8587-1662681600-1662767999@randolphamvetspost51.org
SUMMARY:The Heavyhitters Band
DESCRIPTION:
URL:https://randolphamvetspost51.org/event/the-heavyhitters-band-5/
LOCATION:Amvets Post No 51\, 9 Amvets Ln\, Randolph\, MA\, 02368\, United States
CATEGORIES:Entertainment
END:VEVENT
BEGIN:VEVENT
DTSTART;VALUE=DATE:20220916
DTEND;VALUE=DATE:20220917
DTSTAMP:20260421T170201
CREATED:20220831T191153Z
LAST-MODIFIED:20220831T191153Z
UID:8590-1663286400-1663372799@randolphamvetspost51.org
SUMMARY:XM Station
DESCRIPTION:
URL:https://randolphamvetspost51.org/event/xm-station-2/
LOCATION:Amvets Post No 51\, 9 Amvets Ln\, Randolph\, MA\, 02368\, United States
CATEGORIES:Entertainment
END:VEVENT
BEGIN:VEVENT
DTSTART;VALUE=DATE:20220917
DTEND;VALUE=DATE:20220918
DTSTAMP:20260421T170201
CREATED:20220831T191213Z
LAST-MODIFIED:20220831T191213Z
UID:8592-1663372800-1663459199@randolphamvetspost51.org
SUMMARY:Good to Go
DESCRIPTION:
URL:https://randolphamvetspost51.org/event/good-to-go-4/
LOCATION:Amvets Post No 51\, 9 Amvets Ln\, Randolph\, MA\, 02368\, United States
CATEGORIES:Entertainment
END:VEVENT
BEGIN:VEVENT
DTSTART;VALUE=DATE:20220923
DTEND;VALUE=DATE:20220924
DTSTAMP:20260421T170201
CREATED:20220831T191231Z
LAST-MODIFIED:20220831T191231Z
UID:8594-1663891200-1663977599@randolphamvetspost51.org
SUMMARY:Idle Rumors
DESCRIPTION:
URL:https://randolphamvetspost51.org/event/idle-rumors-8/
LOCATION:Amvets Post No 51\, 9 Amvets Ln\, Randolph\, MA\, 02368\, United States
CATEGORIES:Entertainment
ATTACH;FMTTYPE=image/jpeg:https://randolphamvetspost51.org/wp-content/uploads/2021/09/ldle_Rumors-600x399-2.jpeg
END:VEVENT
BEGIN:VEVENT
DTSTART;VALUE=DATE:20220924
DTEND;VALUE=DATE:20220925
DTSTAMP:20260421T170201
CREATED:20220831T191258Z
LAST-MODIFIED:20220831T191258Z
UID:8596-1663977600-1664063999@randolphamvetspost51.org
SUMMARY:RPM Band
DESCRIPTION:
URL:https://randolphamvetspost51.org/event/rpm-band-6/
LOCATION:Amvets Post No 51\, 9 Amvets Ln\, Randolph\, MA\, 02368\, United States
CATEGORIES:Entertainment
ATTACH;FMTTYPE=image/jpeg:https://randolphamvetspost51.org/wp-content/uploads/2021/09/fb-img-1575919846819.jpeg
END:VEVENT
BEGIN:VEVENT
DTSTART;VALUE=DATE:20220930
DTEND;VALUE=DATE:20221001
DTSTAMP:20260421T170201
CREATED:20220831T191322Z
LAST-MODIFIED:20220831T191322Z
UID:8598-1664496000-1664582399@randolphamvetspost51.org
SUMMARY:Colleen Marshall & John Kelly
DESCRIPTION:
URL:https://randolphamvetspost51.org/event/colleen-marshall-john-kelly-7/
LOCATION:Amvets Post No 51\, 9 Amvets Ln\, Randolph\, MA\, 02368\, United States
CATEGORIES:Entertainment
END:VEVENT
END:VCALENDAR