BEGIN:VCALENDAR
VERSION:2.0
PRODID:-//Randolph AMVETS Post 51 - ECPv6.15.20//NONSGML v1.0//EN
CALSCALE:GREGORIAN
METHOD:PUBLISH
X-WR-CALNAME:Randolph AMVETS Post 51
X-ORIGINAL-URL:https://randolphamvetspost51.org
X-WR-CALDESC:Events for Randolph AMVETS Post 51
REFRESH-INTERVAL;VALUE=DURATION:PT1H
X-Robots-Tag:noindex
X-PUBLISHED-TTL:PT1H
BEGIN:VTIMEZONE
TZID:America/New_York
BEGIN:DAYLIGHT
TZOFFSETFROM:-0500
TZOFFSETTO:-0400
TZNAME:EDT
DTSTART:20210314T070000
END:DAYLIGHT
BEGIN:STANDARD
TZOFFSETFROM:-0400
TZOFFSETTO:-0500
TZNAME:EST
DTSTART:20211107T060000
END:STANDARD
BEGIN:DAYLIGHT
TZOFFSETFROM:-0500
TZOFFSETTO:-0400
TZNAME:EDT
DTSTART:20220313T070000
END:DAYLIGHT
BEGIN:STANDARD
TZOFFSETFROM:-0400
TZOFFSETTO:-0500
TZNAME:EST
DTSTART:20221106T060000
END:STANDARD
BEGIN:DAYLIGHT
TZOFFSETFROM:-0500
TZOFFSETTO:-0400
TZNAME:EDT
DTSTART:20230312T070000
END:DAYLIGHT
BEGIN:STANDARD
TZOFFSETFROM:-0400
TZOFFSETTO:-0500
TZNAME:EST
DTSTART:20231105T060000
END:STANDARD
END:VTIMEZONE
BEGIN:VEVENT
DTSTART;VALUE=DATE:20220804
DTEND;VALUE=DATE:20220805
DTSTAMP:20260421T183118
CREATED:20220802T175042Z
LAST-MODIFIED:20220802T175042Z
UID:8565-1659571200-1659657599@randolphamvetspost51.org
SUMMARY:Open Mic Blues Jam (with Steve Anderson)
DESCRIPTION:
URL:https://randolphamvetspost51.org/event/open-mic-blues-jam-with-steve-anderson/
LOCATION:Amvets Post No 51\, 9 Amvets Ln\, Randolph\, MA\, 02368\, United States
CATEGORIES:Entertainment
END:VEVENT
BEGIN:VEVENT
DTSTART;VALUE=DATE:20220805
DTEND;VALUE=DATE:20220806
DTSTAMP:20260421T183118
CREATED:20220802T173609Z
LAST-MODIFIED:20220802T173609Z
UID:8546-1659657600-1659743999@randolphamvetspost51.org
SUMMARY:Avengers
DESCRIPTION:
URL:https://randolphamvetspost51.org/event/avengers-8/
LOCATION:Amvets Post No 51\, 9 Amvets Ln\, Randolph\, MA\, 02368\, United States
CATEGORIES:Entertainment
ATTACH;FMTTYPE=image/jpeg:https://randolphamvetspost51.org/wp-content/uploads/2021/09/2019-07-26_23.00.04.jpg
END:VEVENT
BEGIN:VEVENT
DTSTART;VALUE=DATE:20220806
DTEND;VALUE=DATE:20220807
DTSTAMP:20260421T183118
CREATED:20220802T173843Z
LAST-MODIFIED:20220802T173843Z
UID:8548-1659744000-1659830399@randolphamvetspost51.org
SUMMARY:December's Children
DESCRIPTION:
URL:https://randolphamvetspost51.org/event/decembers-children/
LOCATION:Amvets Post No 51\, 9 Amvets Ln\, Randolph\, MA\, 02368\, United States
CATEGORIES:Entertainment
END:VEVENT
BEGIN:VEVENT
DTSTART;VALUE=DATE:20220811
DTEND;VALUE=DATE:20220812
DTSTAMP:20260421T183118
CREATED:20220802T175113Z
LAST-MODIFIED:20220802T175113Z
UID:8567-1660176000-1660262399@randolphamvetspost51.org
SUMMARY:Open Mic Blues Jam (with Steve Anderson)
DESCRIPTION:
URL:https://randolphamvetspost51.org/event/open-mic-blues-jam-with-steve-anderson-2/
LOCATION:Amvets Post No 51\, 9 Amvets Ln\, Randolph\, MA\, 02368\, United States
CATEGORIES:Entertainment
END:VEVENT
BEGIN:VEVENT
DTSTART;VALUE=DATE:20220812
DTEND;VALUE=DATE:20220813
DTSTAMP:20260421T183118
CREATED:20220802T174653Z
LAST-MODIFIED:20220802T174653Z
UID:8550-1660262400-1660348799@randolphamvetspost51.org
SUMMARY:The Heavyhitters Band
DESCRIPTION:
URL:https://randolphamvetspost51.org/event/the-heavyhitters-band-4/
LOCATION:Amvets Post No 51\, 9 Amvets Ln\, Randolph\, MA\, 02368\, United States
CATEGORIES:Entertainment
END:VEVENT
BEGIN:VEVENT
DTSTART;VALUE=DATE:20220813
DTEND;VALUE=DATE:20220814
DTSTAMP:20260421T183118
CREATED:20220802T174715Z
LAST-MODIFIED:20220802T174715Z
UID:8552-1660348800-1660435199@randolphamvetspost51.org
SUMMARY:Magic Moments
DESCRIPTION:
URL:https://randolphamvetspost51.org/event/magic-moments-2/
LOCATION:Amvets Post No 51\, 9 Amvets Ln\, Randolph\, MA\, 02368\, United States
CATEGORIES:Entertainment
END:VEVENT
BEGIN:VEVENT
DTSTART;VALUE=DATE:20220818
DTEND;VALUE=DATE:20220819
DTSTAMP:20260421T183118
CREATED:20220802T175132Z
LAST-MODIFIED:20220802T175132Z
UID:8569-1660780800-1660867199@randolphamvetspost51.org
SUMMARY:Open Mic Blues Jam (with Steve Anderson)
DESCRIPTION:
URL:https://randolphamvetspost51.org/event/open-mic-blues-jam-with-steve-anderson-3/
LOCATION:Amvets Post No 51\, 9 Amvets Ln\, Randolph\, MA\, 02368\, United States
CATEGORIES:Entertainment
END:VEVENT
BEGIN:VEVENT
DTSTART;VALUE=DATE:20220819
DTEND;VALUE=DATE:20220820
DTSTAMP:20260421T183118
CREATED:20220802T174733Z
LAST-MODIFIED:20220802T174733Z
UID:8554-1660867200-1660953599@randolphamvetspost51.org
SUMMARY:Section 8
DESCRIPTION:
URL:https://randolphamvetspost51.org/event/section-8-4/
LOCATION:Amvets Post No 51\, 9 Amvets Ln\, Randolph\, MA\, 02368\, United States
CATEGORIES:Entertainment
ATTACH;FMTTYPE=image/jpeg:https://randolphamvetspost51.org/wp-content/uploads/2021/09/IMG_5213-scaled.jpeg
END:VEVENT
BEGIN:VEVENT
DTSTART;VALUE=DATE:20220820
DTEND;VALUE=DATE:20220821
DTSTAMP:20260421T183118
CREATED:20220802T174751Z
LAST-MODIFIED:20220802T174751Z
UID:8556-1660953600-1661039999@randolphamvetspost51.org
SUMMARY:Trouble
DESCRIPTION:
URL:https://randolphamvetspost51.org/event/trouble-3/
LOCATION:Amvets Post No 51\, 9 Amvets Ln\, Randolph\, MA\, 02368\, United States
CATEGORIES:Entertainment
END:VEVENT
BEGIN:VEVENT
DTSTART;VALUE=DATE:20220825
DTEND;VALUE=DATE:20220826
DTSTAMP:20260421T183118
CREATED:20220802T175152Z
LAST-MODIFIED:20220802T175152Z
UID:8571-1661385600-1661471999@randolphamvetspost51.org
SUMMARY:Open Mic Blues Jam (with Steve Anderson)
DESCRIPTION:
URL:https://randolphamvetspost51.org/event/open-mic-blues-jam-with-steve-anderson-4/
LOCATION:Amvets Post No 51\, 9 Amvets Ln\, Randolph\, MA\, 02368\, United States
CATEGORIES:Entertainment
END:VEVENT
BEGIN:VEVENT
DTSTART;VALUE=DATE:20220826
DTEND;VALUE=DATE:20220827
DTSTAMP:20260421T183118
CREATED:20220802T174809Z
LAST-MODIFIED:20220802T174809Z
UID:8558-1661472000-1661558399@randolphamvetspost51.org
SUMMARY:Per Diem
DESCRIPTION:
URL:https://randolphamvetspost51.org/event/per-diem-6/
LOCATION:Amvets Post No 51\, 9 Amvets Ln\, Randolph\, MA\, 02368\, United States
CATEGORIES:Entertainment
ATTACH;FMTTYPE=image/jpeg:https://randolphamvetspost51.org/wp-content/uploads/2021/09/IMG_52312-1.jpeg
END:VEVENT
BEGIN:VEVENT
DTSTART;VALUE=DATE:20220827
DTEND;VALUE=DATE:20220828
DTSTAMP:20260421T183118
CREATED:20220802T174837Z
LAST-MODIFIED:20220802T174837Z
UID:8560-1661558400-1661644799@randolphamvetspost51.org
SUMMARY:Rick Barron & The Quavers
DESCRIPTION:
URL:https://randolphamvetspost51.org/event/rick-barron-the-quavers-7/
LOCATION:Amvets Post No 51\, 9 Amvets Ln\, Randolph\, MA\, 02368\, United States
CATEGORIES:Entertainment
ATTACH;FMTTYPE=image/jpeg:https://randolphamvetspost51.org/wp-content/uploads/2021/10/74955397_120135956096307_856220636903636992_n.jpeg
END:VEVENT
END:VCALENDAR