BEGIN:VCALENDAR
VERSION:2.0
PRODID:-//Randolph AMVETS Post 51 - ECPv6.15.20//NONSGML v1.0//EN
CALSCALE:GREGORIAN
METHOD:PUBLISH
X-ORIGINAL-URL:https://randolphamvetspost51.org
X-WR-CALDESC:Events for Randolph AMVETS Post 51
REFRESH-INTERVAL;VALUE=DURATION:PT1H
X-Robots-Tag:noindex
X-PUBLISHED-TTL:PT1H
BEGIN:VTIMEZONE
TZID:America/New_York
BEGIN:DAYLIGHT
TZOFFSETFROM:-0500
TZOFFSETTO:-0400
TZNAME:EDT
DTSTART:20210314T070000
END:DAYLIGHT
BEGIN:STANDARD
TZOFFSETFROM:-0400
TZOFFSETTO:-0500
TZNAME:EST
DTSTART:20211107T060000
END:STANDARD
BEGIN:DAYLIGHT
TZOFFSETFROM:-0500
TZOFFSETTO:-0400
TZNAME:EDT
DTSTART:20220313T070000
END:DAYLIGHT
BEGIN:STANDARD
TZOFFSETFROM:-0400
TZOFFSETTO:-0500
TZNAME:EST
DTSTART:20221106T060000
END:STANDARD
BEGIN:DAYLIGHT
TZOFFSETFROM:-0500
TZOFFSETTO:-0400
TZNAME:EDT
DTSTART:20230312T070000
END:DAYLIGHT
BEGIN:STANDARD
TZOFFSETFROM:-0400
TZOFFSETTO:-0500
TZNAME:EST
DTSTART:20231105T060000
END:STANDARD
END:VTIMEZONE
BEGIN:VEVENT
DTSTART;VALUE=DATE:20220506
DTEND;VALUE=DATE:20220507
DTSTAMP:20260421T223735
CREATED:20220501T131030Z
LAST-MODIFIED:20220501T131030Z
UID:8484-1651795200-1651881599@randolphamvetspost51.org
SUMMARY:Good to Go
DESCRIPTION:
URL:https://randolphamvetspost51.org/event/good-to-go-3/
LOCATION:Amvets Post No 51\, 9 Amvets Ln\, Randolph\, MA\, 02368\, United States
CATEGORIES:Entertainment
END:VEVENT
BEGIN:VEVENT
DTSTART;VALUE=DATE:20220507
DTEND;VALUE=DATE:20220508
DTSTAMP:20260421T223735
CREATED:20220501T131147Z
LAST-MODIFIED:20220501T131147Z
UID:8486-1651881600-1651967999@randolphamvetspost51.org
SUMMARY:The Wickies
DESCRIPTION:
URL:https://randolphamvetspost51.org/event/the-wickies/
LOCATION:Amvets Post No 51\, 9 Amvets Ln\, Randolph\, MA\, 02368\, United States
CATEGORIES:Entertainment
ATTACH;FMTTYPE=image/jpeg:https://randolphamvetspost51.org/wp-content/uploads/2022/05/275710213_721829855856915_7020841057134431271_n.jpeg
END:VEVENT
BEGIN:VEVENT
DTSTART;VALUE=DATE:20220513
DTEND;VALUE=DATE:20220514
DTSTAMP:20260421T223735
CREATED:20220501T131205Z
LAST-MODIFIED:20220501T131205Z
UID:8489-1652400000-1652486399@randolphamvetspost51.org
SUMMARY:Avengers
DESCRIPTION:
URL:https://randolphamvetspost51.org/event/avengers-6/
LOCATION:Amvets Post No 51\, 9 Amvets Ln\, Randolph\, MA\, 02368\, United States
CATEGORIES:Entertainment
ATTACH;FMTTYPE=image/jpeg:https://randolphamvetspost51.org/wp-content/uploads/2021/09/2019-07-26_23.00.04.jpg
END:VEVENT
BEGIN:VEVENT
DTSTART;VALUE=DATE:20220514
DTEND;VALUE=DATE:20220515
DTSTAMP:20260421T223735
CREATED:20220501T131308Z
LAST-MODIFIED:20220501T131308Z
UID:8491-1652486400-1652572799@randolphamvetspost51.org
SUMMARY:That 60s Band
DESCRIPTION:
URL:https://randolphamvetspost51.org/event/that-60s-band/
LOCATION:Amvets Post No 51\, 9 Amvets Ln\, Randolph\, MA\, 02368\, United States
CATEGORIES:Entertainment
ATTACH;FMTTYPE=image/jpeg:https://randolphamvetspost51.org/wp-content/uploads/2022/05/74304261_579610156111939_7249177163763548160_n.jpeg
END:VEVENT
BEGIN:VEVENT
DTSTART;VALUE=DATE:20220520
DTEND;VALUE=DATE:20220521
DTSTAMP:20260421T223735
CREATED:20220501T131327Z
LAST-MODIFIED:20220501T131327Z
UID:8494-1653004800-1653091199@randolphamvetspost51.org
SUMMARY:Satch Romano & Mighty HouseRockers
DESCRIPTION:
URL:https://randolphamvetspost51.org/event/satch-romano-mighty-houserockers/
LOCATION:Amvets Post No 51\, 9 Amvets Ln\, Randolph\, MA\, 02368\, United States
CATEGORIES:Entertainment
END:VEVENT
BEGIN:VEVENT
DTSTART;VALUE=DATE:20220521
DTEND;VALUE=DATE:20220522
DTSTAMP:20260421T223735
CREATED:20220501T131344Z
LAST-MODIFIED:20220501T131344Z
UID:8496-1653091200-1653177599@randolphamvetspost51.org
SUMMARY:Rick Barron & The Quavers
DESCRIPTION:
URL:https://randolphamvetspost51.org/event/rick-barron-the-quavers-6/
LOCATION:Amvets Post No 51\, 9 Amvets Ln\, Randolph\, MA\, 02368\, United States
CATEGORIES:Entertainment
ATTACH;FMTTYPE=image/jpeg:https://randolphamvetspost51.org/wp-content/uploads/2021/10/74955397_120135956096307_856220636903636992_n.jpeg
END:VEVENT
BEGIN:VEVENT
DTSTART;VALUE=DATE:20220527
DTEND;VALUE=DATE:20220528
DTSTAMP:20260421T223735
CREATED:20220501T131401Z
LAST-MODIFIED:20220501T131401Z
UID:8498-1653609600-1653695999@randolphamvetspost51.org
SUMMARY:Undercover
DESCRIPTION:
URL:https://randolphamvetspost51.org/event/undercover-2/
LOCATION:Amvets Post No 51\, 9 Amvets Ln\, Randolph\, MA\, 02368\, United States
CATEGORIES:Entertainment
END:VEVENT
BEGIN:VEVENT
DTSTART;VALUE=DATE:20220528
DTEND;VALUE=DATE:20220529
DTSTAMP:20260421T223735
CREATED:20220501T131419Z
LAST-MODIFIED:20220501T131419Z
UID:8500-1653696000-1653782399@randolphamvetspost51.org
SUMMARY:Soulshine
DESCRIPTION:
URL:https://randolphamvetspost51.org/event/soulshine-2/
LOCATION:Amvets Post No 51\, 9 Amvets Ln\, Randolph\, MA\, 02368\, United States
CATEGORIES:Entertainment
ATTACH;FMTTYPE=image/jpeg:https://randolphamvetspost51.org/wp-content/uploads/2021/09/IMG_3662-scaled.jpeg
END:VEVENT
END:VCALENDAR