BEGIN:VCALENDAR
VERSION:2.0
PRODID:-//Randolph AMVETS Post 51 - ECPv6.15.20//NONSGML v1.0//EN
CALSCALE:GREGORIAN
METHOD:PUBLISH
X-ORIGINAL-URL:https://randolphamvetspost51.org
X-WR-CALDESC:Events for Randolph AMVETS Post 51
REFRESH-INTERVAL;VALUE=DURATION:PT1H
X-Robots-Tag:noindex
X-PUBLISHED-TTL:PT1H
BEGIN:VTIMEZONE
TZID:America/New_York
BEGIN:DAYLIGHT
TZOFFSETFROM:-0500
TZOFFSETTO:-0400
TZNAME:EDT
DTSTART:20200308T070000
END:DAYLIGHT
BEGIN:STANDARD
TZOFFSETFROM:-0400
TZOFFSETTO:-0500
TZNAME:EST
DTSTART:20201101T060000
END:STANDARD
BEGIN:DAYLIGHT
TZOFFSETFROM:-0500
TZOFFSETTO:-0400
TZNAME:EDT
DTSTART:20210314T070000
END:DAYLIGHT
BEGIN:STANDARD
TZOFFSETFROM:-0400
TZOFFSETTO:-0500
TZNAME:EST
DTSTART:20211107T060000
END:STANDARD
BEGIN:DAYLIGHT
TZOFFSETFROM:-0500
TZOFFSETTO:-0400
TZNAME:EDT
DTSTART:20220313T070000
END:DAYLIGHT
BEGIN:STANDARD
TZOFFSETFROM:-0400
TZOFFSETTO:-0500
TZNAME:EST
DTSTART:20221106T060000
END:STANDARD
END:VTIMEZONE
BEGIN:VEVENT
DTSTART;VALUE=DATE:20211105
DTEND;VALUE=DATE:20211106
DTSTAMP:20260422T070909
CREATED:20211026T012122Z
LAST-MODIFIED:20211026T012122Z
UID:8296-1636070400-1636156799@randolphamvetspost51.org
SUMMARY:Rick Barron & The Quavers
DESCRIPTION:
URL:https://randolphamvetspost51.org/event/rick-barron-the-quavers/
LOCATION:Amvets Post No 51\, 9 Amvets Ln\, Randolph\, MA\, 02368\, United States
CATEGORIES:Entertainment
ATTACH;FMTTYPE=image/jpeg:https://randolphamvetspost51.org/wp-content/uploads/2021/10/74955397_120135956096307_856220636903636992_n.jpeg
END:VEVENT
BEGIN:VEVENT
DTSTART;VALUE=DATE:20211106
DTEND;VALUE=DATE:20211107
DTSTAMP:20260422T070909
CREATED:20211026T012158Z
LAST-MODIFIED:20211026T012158Z
UID:8299-1636156800-1636243199@randolphamvetspost51.org
SUMMARY:Honey Cuervo
DESCRIPTION:
URL:https://randolphamvetspost51.org/event/honey-cuervo/
LOCATION:Amvets Post No 51\, 9 Amvets Ln\, Randolph\, MA\, 02368\, United States
CATEGORIES:Entertainment
ATTACH;FMTTYPE=image/jpeg:https://randolphamvetspost51.org/wp-content/uploads/2021/09/Honey_Cuervo_Promo_Pic.jpeg
END:VEVENT
BEGIN:VEVENT
DTSTART;VALUE=DATE:20211112
DTEND;VALUE=DATE:20211113
DTSTAMP:20260422T070909
CREATED:20211026T012238Z
LAST-MODIFIED:20211026T012238Z
UID:8301-1636675200-1636761599@randolphamvetspost51.org
SUMMARY:Avengers
DESCRIPTION:
URL:https://randolphamvetspost51.org/event/avengers-2/
LOCATION:Amvets Post No 51\, 9 Amvets Ln\, Randolph\, MA\, 02368\, United States
CATEGORIES:Entertainment
ATTACH;FMTTYPE=image/jpeg:https://randolphamvetspost51.org/wp-content/uploads/2021/09/2019-07-26_23.00.04.jpg
END:VEVENT
BEGIN:VEVENT
DTSTART;VALUE=DATE:20211113
DTEND;VALUE=DATE:20211114
DTSTAMP:20260422T070909
CREATED:20211026T012325Z
LAST-MODIFIED:20211026T012325Z
UID:8303-1636761600-1636847999@randolphamvetspost51.org
SUMMARY:RPM Band
DESCRIPTION:
URL:https://randolphamvetspost51.org/event/rpm-band-2/
LOCATION:Amvets Post No 51\, 9 Amvets Ln\, Randolph\, MA\, 02368\, United States
CATEGORIES:Entertainment
ATTACH;FMTTYPE=image/jpeg:https://randolphamvetspost51.org/wp-content/uploads/2021/09/fb-img-1575919846819.jpeg
END:VEVENT
BEGIN:VEVENT
DTSTART;VALUE=DATE:20211119
DTEND;VALUE=DATE:20211120
DTSTAMP:20260422T070909
CREATED:20211026T012404Z
LAST-MODIFIED:20211116T135552Z
UID:8305-1637280000-1637366399@randolphamvetspost51.org
SUMMARY:Idle Rumors
DESCRIPTION:
URL:https://randolphamvetspost51.org/event/idle-rumors-2/
LOCATION:Amvets Post No 51\, 9 Amvets Ln\, Randolph\, MA\, 02368\, United States
CATEGORIES:Entertainment
ATTACH;FMTTYPE=image/jpeg:https://randolphamvetspost51.org/wp-content/uploads/2021/09/ldle_Rumors-600x399-2.jpeg
END:VEVENT
BEGIN:VEVENT
DTSTART;VALUE=DATE:20211120
DTEND;VALUE=DATE:20211121
DTSTAMP:20260422T070909
CREATED:20211026T012512Z
LAST-MODIFIED:20211109T020450Z
UID:8307-1637366400-1637452799@randolphamvetspost51.org
SUMMARY:Classic Tex
DESCRIPTION:
URL:https://randolphamvetspost51.org/event/classic-tex/
LOCATION:Amvets Post No 51\, 9 Amvets Ln\, Randolph\, MA\, 02368\, United States
CATEGORIES:Entertainment
ATTACH;FMTTYPE=image/jpeg:https://randolphamvetspost51.org/wp-content/uploads/2021/09/Classic_Trax_Cover.jpeg
END:VEVENT
BEGIN:VEVENT
DTSTART;VALUE=DATE:20211126
DTEND;VALUE=DATE:20211127
DTSTAMP:20260422T070909
CREATED:20211026T012655Z
LAST-MODIFIED:20211026T012655Z
UID:8313-1637884800-1637971199@randolphamvetspost51.org
SUMMARY:Colleen Marshall & John Kelly
DESCRIPTION:
URL:https://randolphamvetspost51.org/event/colleen-marshall-john-kelly-2/
LOCATION:Amvets Post No 51\, 9 Amvets Ln\, Randolph\, MA\, 02368\, United States
CATEGORIES:Entertainment
END:VEVENT
BEGIN:VEVENT
DTSTART;VALUE=DATE:20211127
DTEND;VALUE=DATE:20211128
DTSTAMP:20260422T070909
CREATED:20211026T012837Z
LAST-MODIFIED:20211026T012837Z
UID:8315-1637971200-1638057599@randolphamvetspost51.org
SUMMARY:Terminal Velocity
DESCRIPTION:
URL:https://randolphamvetspost51.org/event/terminal-velocity/
LOCATION:Amvets Post No 51\, 9 Amvets Ln\, Randolph\, MA\, 02368\, United States
CATEGORIES:Entertainment
ATTACH;FMTTYPE=image/jpeg:https://randolphamvetspost51.org/wp-content/uploads/2021/10/terminal-velocity.jpeg
END:VEVENT
END:VCALENDAR