BEGIN:VCALENDAR
VERSION:2.0
PRODID:-//Randolph AMVETS Post 51 - ECPv6.15.20//NONSGML v1.0//EN
CALSCALE:GREGORIAN
METHOD:PUBLISH
X-WR-CALNAME:Randolph AMVETS Post 51
X-ORIGINAL-URL:https://randolphamvetspost51.org
X-WR-CALDESC:Events for Randolph AMVETS Post 51
REFRESH-INTERVAL;VALUE=DURATION:PT1H
X-Robots-Tag:noindex
X-PUBLISHED-TTL:PT1H
BEGIN:VTIMEZONE
TZID:America/New_York
BEGIN:DAYLIGHT
TZOFFSETFROM:-0500
TZOFFSETTO:-0400
TZNAME:EDT
DTSTART:20200308T070000
END:DAYLIGHT
BEGIN:STANDARD
TZOFFSETFROM:-0400
TZOFFSETTO:-0500
TZNAME:EST
DTSTART:20201101T060000
END:STANDARD
BEGIN:DAYLIGHT
TZOFFSETFROM:-0500
TZOFFSETTO:-0400
TZNAME:EDT
DTSTART:20210314T070000
END:DAYLIGHT
BEGIN:STANDARD
TZOFFSETFROM:-0400
TZOFFSETTO:-0500
TZNAME:EST
DTSTART:20211107T060000
END:STANDARD
BEGIN:DAYLIGHT
TZOFFSETFROM:-0500
TZOFFSETTO:-0400
TZNAME:EDT
DTSTART:20220313T070000
END:DAYLIGHT
BEGIN:STANDARD
TZOFFSETFROM:-0400
TZOFFSETTO:-0500
TZNAME:EST
DTSTART:20221106T060000
END:STANDARD
END:VTIMEZONE
BEGIN:VEVENT
DTSTART;VALUE=DATE:20211001
DTEND;VALUE=DATE:20211002
DTSTAMP:20260422T082842
CREATED:20210928T220806Z
LAST-MODIFIED:20210928T183430Z
UID:1031-1633046400-1633132799@randolphamvetspost51.org
SUMMARY:Avengers
DESCRIPTION:
URL:https://randolphamvetspost51.org/event/avengers/
LOCATION:Amvets Post No 51\, 9 Amvets Ln\, Randolph\, MA\, 02368\, United States
CATEGORIES:Entertainment
ATTACH;FMTTYPE=image/jpeg:https://randolphamvetspost51.org/wp-content/uploads/2021/09/2019-07-26_23.00.04.jpg
END:VEVENT
BEGIN:VEVENT
DTSTART;VALUE=DATE:20211002
DTEND;VALUE=DATE:20211003
DTSTAMP:20260422T082842
CREATED:20210928T183828Z
LAST-MODIFIED:20210928T183832Z
UID:1062-1633132800-1633219199@randolphamvetspost51.org
SUMMARY:RPM Band
DESCRIPTION:
URL:https://randolphamvetspost51.org/event/rpm-band/
LOCATION:Amvets Post No 51\, 9 Amvets Ln\, Randolph\, MA\, 02368\, United States
CATEGORIES:Entertainment
ATTACH;FMTTYPE=image/jpeg:https://randolphamvetspost51.org/wp-content/uploads/2021/09/fb-img-1575919846819.jpeg
END:VEVENT
BEGIN:VEVENT
DTSTART;VALUE=DATE:20211008
DTEND;VALUE=DATE:20211009
DTSTAMP:20260422T082842
CREATED:20210928T184308Z
LAST-MODIFIED:20210928T184308Z
UID:1067-1633651200-1633737599@randolphamvetspost51.org
SUMMARY:Per Diem
DESCRIPTION:
URL:https://randolphamvetspost51.org/event/per-diem/
LOCATION:Amvets Post No 51\, 9 Amvets Ln\, Randolph\, MA\, 02368\, United States
CATEGORIES:Entertainment
ATTACH;FMTTYPE=image/jpeg:https://randolphamvetspost51.org/wp-content/uploads/2021/09/IMG_52312-1.jpeg
END:VEVENT
BEGIN:VEVENT
DTSTART;VALUE=DATE:20211009
DTEND;VALUE=DATE:20211010
DTSTAMP:20260422T082842
CREATED:20210928T184429Z
LAST-MODIFIED:20210928T184429Z
UID:1070-1633737600-1633823999@randolphamvetspost51.org
SUMMARY:Lenny and the Del Rays
DESCRIPTION:
URL:https://randolphamvetspost51.org/event/lenny-and-the-del-rays/
LOCATION:Amvets Post No 51\, 9 Amvets Ln\, Randolph\, MA\, 02368\, United States
CATEGORIES:Entertainment
ATTACH;FMTTYPE=image/png:https://randolphamvetspost51.org/wp-content/uploads/2021/09/Lenny_0022-1.png
END:VEVENT
BEGIN:VEVENT
DTSTART;VALUE=DATE:20211015
DTEND;VALUE=DATE:20211016
DTSTAMP:20260422T082842
CREATED:20210928T184622Z
LAST-MODIFIED:20210928T184622Z
UID:1073-1634256000-1634342399@randolphamvetspost51.org
SUMMARY:John Kelly
DESCRIPTION:
URL:https://randolphamvetspost51.org/event/john-kelly/
LOCATION:Amvets Post No 51\, 9 Amvets Ln\, Randolph\, MA\, 02368\, United States
CATEGORIES:Entertainment
END:VEVENT
BEGIN:VEVENT
DTSTART;VALUE=DATE:20211016
DTEND;VALUE=DATE:20211017
DTSTAMP:20260422T082842
CREATED:20210928T184702Z
LAST-MODIFIED:20210928T184702Z
UID:1075-1634342400-1634428799@randolphamvetspost51.org
SUMMARY:Easy Access
DESCRIPTION:
URL:https://randolphamvetspost51.org/event/easy-access/
LOCATION:Amvets Post No 51\, 9 Amvets Ln\, Randolph\, MA\, 02368\, United States
CATEGORIES:Entertainment
ATTACH;FMTTYPE=image/jpeg:https://randolphamvetspost51.org/wp-content/uploads/2021/09/IMG_4209.jpeg
END:VEVENT
BEGIN:VEVENT
DTSTART;VALUE=DATE:20211022
DTEND;VALUE=DATE:20211023
DTSTAMP:20260422T082842
CREATED:20210928T184732Z
LAST-MODIFIED:20210928T184732Z
UID:1078-1634860800-1634947199@randolphamvetspost51.org
SUMMARY:Colleen Marshall & John Kelly
DESCRIPTION:
URL:https://randolphamvetspost51.org/event/colleen-marshall-john-kelly/
LOCATION:Amvets Post No 51\, 9 Amvets Ln\, Randolph\, MA\, 02368\, United States
CATEGORIES:Entertainment
END:VEVENT
BEGIN:VEVENT
DTSTART;VALUE=DATE:20211023
DTEND;VALUE=DATE:20211024
DTSTAMP:20260422T082842
CREATED:20210928T184801Z
LAST-MODIFIED:20210928T184801Z
UID:1080-1634947200-1635033599@randolphamvetspost51.org
SUMMARY:Idle Rumors
DESCRIPTION:
URL:https://randolphamvetspost51.org/event/idle-rumors/
LOCATION:Amvets Post No 51\, 9 Amvets Ln\, Randolph\, MA\, 02368\, United States
CATEGORIES:Entertainment
ATTACH;FMTTYPE=image/jpeg:https://randolphamvetspost51.org/wp-content/uploads/2021/09/ldle_Rumors-600x399-2.jpeg
END:VEVENT
BEGIN:VEVENT
DTSTART;VALUE=DATE:20211029
DTEND;VALUE=DATE:20211030
DTSTAMP:20260422T082842
CREATED:20210928T184838Z
LAST-MODIFIED:20210928T184838Z
UID:1083-1635465600-1635551999@randolphamvetspost51.org
SUMMARY:Michele Rockwell Band
DESCRIPTION:
URL:https://randolphamvetspost51.org/event/michele-rockwell-band/
LOCATION:Amvets Post No 51\, 9 Amvets Ln\, Randolph\, MA\, 02368\, United States
CATEGORIES:Entertainment
ATTACH;FMTTYPE=image/jpeg:https://randolphamvetspost51.org/wp-content/uploads/2021/09/The_Michele_Rockwell_Band-1.jpeg
END:VEVENT
BEGIN:VEVENT
DTSTART;VALUE=DATE:20211030
DTEND;VALUE=DATE:20211031
DTSTAMP:20260422T082842
CREATED:20210928T184918Z
LAST-MODIFIED:20210928T184918Z
UID:1086-1635552000-1635638399@randolphamvetspost51.org
SUMMARY:The CRS Band
DESCRIPTION:
URL:https://randolphamvetspost51.org/event/the-crs-band/
LOCATION:Amvets Post No 51\, 9 Amvets Ln\, Randolph\, MA\, 02368\, United States
CATEGORIES:Entertainment
ATTACH;FMTTYPE=image/jpeg:https://randolphamvetspost51.org/wp-content/uploads/2021/09/CRS_Band-1.jpeg
END:VEVENT
END:VCALENDAR